BEGIN:VCALENDAR
VERSION:2.0
PRODID:-//SVP Arbon //NONSGML Events //EN
CALSCALE:GREGORIAN
X-WR-CALNAME:SVP Arbon
BEGIN:VEVENT
CREATED:20260420T194341Z
UID:2651
DTEND:20260504T190000
DTSTART:20260504T180000
DTSTAMP:20260421T123138Z
LOCATION:Hotel Park
DESCRIPTION:Liebe Mitglieder der SVP, liebe Sympathisanten, liebe Mitbürger Wir f
SUMMARY:Mai Stamm SVP-Arbon\, 4.5.26
ORGANIZER:Nilo Schollenberger
URL;VALUE=URI:https://www.svparbon.ch/termine/mai-stamm-svp-arbon-4-5-26/
TRANSP:OPAQUE
END:VEVENT
END:VCALENDAR
